BEGIN:VCALENDAR
VERSION:2.0
PRODID:-//St Andrew CHURCH OF CHRIST - ECPv6.15.20//NONSGML v1.0//EN
CALSCALE:GREGORIAN
METHOD:PUBLISH
X-WR-CALNAME:St Andrew CHURCH OF CHRIST
X-ORIGINAL-URL:https://www.standrewchurchofchrist.org
X-WR-CALDESC:Events for St Andrew CHURCH OF CHRIST
REFRESH-INTERVAL;VALUE=DURATION:PT1H
X-Robots-Tag:noindex
X-PUBLISHED-TTL:PT1H
BEGIN:VTIMEZONE
TZID:UTC
BEGIN:STANDARD
TZOFFSETFROM:+0000
TZOFFSETTO:+0000
TZNAME:UTC
DTSTART:20160101T000000
END:STANDARD
END:VTIMEZONE
BEGIN:VEVENT
DTSTART;TZID=UTC:20171130T110000
DTEND;TZID=UTC:20171130T140000
DTSTAMP:20260425T084507
CREATED:20171115T150108Z
LAST-MODIFIED:20171115T150108Z
UID:601-1512039600-1512050400@www.standrewchurchofchrist.org
SUMMARY:Sunday Meet Up
DESCRIPTION:
URL:https://www.standrewchurchofchrist.org/event/sunday-meet-up/
LOCATION:Lorem\, Auditorium Grennell???s Driving School\, Mona Road\, United States
END:VEVENT
END:VCALENDAR